BEGIN:VCALENDAR
VERSION:2.0
PRODID:-//The Greater Southington Chamber of Commerce - Southington, CT - ECPv6.15.15//NONSGML v1.0//EN
CALSCALE:GREGORIAN
METHOD:PUBLISH
X-WR-CALNAME:The Greater Southington Chamber of Commerce - Southington, CT
X-ORIGINAL-URL:https://www.southingtonchamber.com
X-WR-CALDESC:Events for The Greater Southington Chamber of Commerce - Southington, CT
REFRESH-INTERVAL;VALUE=DURATION:PT1H
X-Robots-Tag:noindex
X-PUBLISHED-TTL:PT1H
BEGIN:VTIMEZONE
TZID:America/New_York
BEGIN:DAYLIGHT
TZOFFSETFROM:-0500
TZOFFSETTO:-0400
TZNAME:EDT
DTSTART:20240310T070000
END:DAYLIGHT
BEGIN:STANDARD
TZOFFSETFROM:-0400
TZOFFSETTO:-0500
TZNAME:EST
DTSTART:20241103T060000
END:STANDARD
BEGIN:DAYLIGHT
TZOFFSETFROM:-0500
TZOFFSETTO:-0400
TZNAME:EDT
DTSTART:20250309T070000
END:DAYLIGHT
BEGIN:STANDARD
TZOFFSETFROM:-0400
TZOFFSETTO:-0500
TZNAME:EST
DTSTART:20251102T060000
END:STANDARD
BEGIN:DAYLIGHT
TZOFFSETFROM:-0500
TZOFFSETTO:-0400
TZNAME:EDT
DTSTART:20260308T070000
END:DAYLIGHT
BEGIN:STANDARD
TZOFFSETFROM:-0400
TZOFFSETTO:-0500
TZNAME:EST
DTSTART:20261101T060000
END:STANDARD
END:VTIMEZONE
BEGIN:VEVENT
DTSTART;TZID=America/New_York:20250924T074500
DTEND;TZID=America/New_York:20250924T090000
DTSTAMP:20260424T182805
CREATED:20250819T211148Z
LAST-MODIFIED:20250908T180008Z
UID:29736-1758699900-1758704400@www.southingtonchamber.com
SUMMARY:Chamber in the Morning Networking Pros - Wednesday\, September 24\, 2025
DESCRIPTION:
URL:https://www.southingtonchamber.com/event/chamber-in-the-morning-networking-pros-wednesday-september-24-2025/
CATEGORIES:Chamber in the Morning,Networking
ATTACH;FMTTYPE=image/png:https://www.southingtonchamber.com/wp-content/uploads/2023/12/chamber-in-the-morning-logo-graphic-2024-1.png
END:VEVENT
BEGIN:VEVENT
DTSTART;TZID=America/New_York:20250923T163000
DTEND;TZID=America/New_York:20250923T180000
DTSTAMP:20260424T182805
CREATED:20250819T201635Z
LAST-MODIFIED:20250826T182835Z
UID:29701-1758645000-1758650400@www.southingtonchamber.com
SUMMARY:Southington Regional Chamber of Commerce Networking Pros Business After Hours - Señor Pancho's
DESCRIPTION:
URL:https://www.southingtonchamber.com/event/southington-regional-chamber-of-commerce-networking-pros-business-after-hours-senor-panchos/
CATEGORIES:Business After Hours,Networking
ATTACH;FMTTYPE=image/png:https://www.southingtonchamber.com/wp-content/uploads/2025/08/5.png
END:VEVENT
BEGIN:VEVENT
DTSTART;TZID=America/New_York:20250907T140000
DTEND;TZID=America/New_York:20250907T180000
DTSTAMP:20260424T182805
CREATED:20250826T164627Z
LAST-MODIFIED:20250826T181520Z
UID:29895-1757253600-1757268000@www.southingtonchamber.com
SUMMARY:Lewis Education Agricultural Farm (L.E.A.F.)'s Third Annual HARVEST HOEDOWN on the Farm!
DESCRIPTION:🌾 Get Ready for the Event of the Year on the Farm! 🌾 \nThe Southington Regional Chamber of Commerce is proud to be a Platinum Sponsor in partnership with L.E.A.F. for their Third Annual HARVEST HOEDOWN on the Farm!\nReserve your seat for a delicious farm-to-table dinner at the Lewis Educational Agricultural Farm\, featuring mouth-watering BBQ from Smokin’ with Chris\, wine & beer pairings courtesy of Worldwide Wine & Spirits\, a Salsa Showdown\, music\, dancing\, raffles\, and so much more!\nThis is an event you won’t want to miss! Get your tickets before they’re gone!\nCLICK HERE to Get Your Tickets at www.LeafHarvestHoedown.com\nAll proceeds go to the Lewis Educational Agricultural Farm (LEAF). LEAF is a 501(c)3 non-profit organization.\n 
URL:https://www.southingtonchamber.com/event/lewis-education-agricultural-farm-l-e-a-f-s-third-annual-harvest-hoedown-on-the-farm/
CATEGORIES:Community Event
ATTACH;FMTTYPE=image/png:https://www.southingtonchamber.com/wp-content/uploads/2025/08/L.E.A.F.-Harvest-Hoedown-website-caledar-Graphic-3.png
END:VEVENT
BEGIN:VEVENT
DTSTART;TZID=America/New_York:20250904T163000
DTEND;TZID=America/New_York:20250904T180000
DTSTAMP:20260424T182805
CREATED:20250818T190209Z
LAST-MODIFIED:20250826T182547Z
UID:29690-1757003400-1757008800@www.southingtonchamber.com
SUMMARY:Southington Regional Chamber Business After Hours Networking Pros - Mom's Nothing Fancy Seafood Restaurant & More
DESCRIPTION:
URL:https://www.southingtonchamber.com/event/southington-regional-chamber-business-after-hours-networking-pros-moms-nothing-fancy-seafood-restaurant-more/
CATEGORIES:Business After Hours,Networking
ATTACH;FMTTYPE=image/png:https://www.southingtonchamber.com/wp-content/uploads/2025/08/7.png
END:VEVENT
END:VCALENDAR