BEGIN:VCALENDAR
VERSION:2.0
PRODID:-//The Greater Southington Chamber of Commerce - Southington, CT - ECPv6.15.15//NONSGML v1.0//EN
CALSCALE:GREGORIAN
METHOD:PUBLISH
X-WR-CALNAME:The Greater Southington Chamber of Commerce - Southington, CT
X-ORIGINAL-URL:https://www.southingtonchamber.com
X-WR-CALDESC:Events for The Greater Southington Chamber of Commerce - Southington, CT
REFRESH-INTERVAL;VALUE=DURATION:PT1H
X-Robots-Tag:noindex
X-PUBLISHED-TTL:PT1H
BEGIN:VTIMEZONE
TZID:America/New_York
BEGIN:DAYLIGHT
TZOFFSETFROM:-0500
TZOFFSETTO:-0400
TZNAME:EDT
DTSTART:20250309T070000
END:DAYLIGHT
BEGIN:STANDARD
TZOFFSETFROM:-0400
TZOFFSETTO:-0500
TZNAME:EST
DTSTART:20251102T060000
END:STANDARD
BEGIN:DAYLIGHT
TZOFFSETFROM:-0500
TZOFFSETTO:-0400
TZNAME:EDT
DTSTART:20260308T070000
END:DAYLIGHT
BEGIN:STANDARD
TZOFFSETFROM:-0400
TZOFFSETTO:-0500
TZNAME:EST
DTSTART:20261101T060000
END:STANDARD
BEGIN:DAYLIGHT
TZOFFSETFROM:-0500
TZOFFSETTO:-0400
TZNAME:EDT
DTSTART:20270314T070000
END:DAYLIGHT
BEGIN:STANDARD
TZOFFSETFROM:-0400
TZOFFSETTO:-0500
TZNAME:EST
DTSTART:20271107T060000
END:STANDARD
END:VTIMEZONE
BEGIN:VEVENT
DTSTART;TZID=America/New_York:20260318T074500
DTEND;TZID=America/New_York:20260318T090000
DTSTAMP:20260422T174812
CREATED:20260213T225030Z
LAST-MODIFIED:20260217T164215Z
UID:31569-1773819900-1773824400@www.southingtonchamber.com
SUMMARY:Chamber in the Morning Networking Pros – Wednesday\, March 18\, 2026
DESCRIPTION:
URL:https://www.southingtonchamber.com/event/chamber-in-the-morning-networking-pros-wednesday-march-18-2026/
LOCATION:Private: LiveWell\, 1261 South Main Street\, Plantsville\, CT\, 06479\, United States
CATEGORIES:Chamber in the Morning,Networking
ATTACH;FMTTYPE=image/png:https://www.southingtonchamber.com/wp-content/uploads/2023/12/chamber-in-the-morning-logo-graphic-2024-1.png
ORGANIZER;CN="Southington Chamber of Commerce":MAILTO:social@southingtonchamber.com
END:VEVENT
BEGIN:VEVENT
DTSTART;TZID=America/New_York:20260318T163000
DTEND;TZID=America/New_York:20260318T180000
DTSTAMP:20260422T174812
CREATED:20260209T155701Z
LAST-MODIFIED:20260209T195600Z
UID:31503-1773851400-1773856800@www.southingtonchamber.com
SUMMARY:Southington Regional Chamber of Commerce Business After Hours - FEM Women's Health & Blue Ocean Chiropractic
DESCRIPTION:
URL:https://www.southingtonchamber.com/event/southington-regional-chamber-of-commerce-business-after-hours-fem-womens-health-blue-ocean-chiropractic/
LOCATION:Private: FEM Women’s Health & Blue Ocean Chiropractic\, 1460 Meriden Waterbury Turnpike Suite 7\, Plantsville\, CT\, CT\, 06479\, United States
CATEGORIES:Business After Hours,Networking
ATTACH;FMTTYPE=image/png:https://www.southingtonchamber.com/wp-content/uploads/2026/02/Fem-Blue-Ocean-Flyer-.png
END:VEVENT
END:VCALENDAR